BEGIN:VCALENDAR
VERSION:2.0
PRODID:SchoolNow
CALSCALE:GREGORIAN
BEGIN:VEVENT
UID:50e72b42-2a80-11ef-ae6d-0e592f68bd97
DTSTAMP:20240614T190007Z
SUMMARY:D97 Schools/Offices Closed
URL;VALUE=URI:https://www.op97.org/longfellow/calendar/6122233/d97-schools-
 offices-closed
DTSTART;VALUE=DATE:20241003
DTEND;VALUE=DATE:20241004
END:VEVENT
END:VCALENDAR
