BEGIN:VCALENDAR
VERSION:2.0
PRODID:SchoolNow
CALSCALE:GREGORIAN
BEGIN:VEVENT
UID:9dbb2180-3967-11ef-89ae-0a58a9feac02
DTSTAMP:20240703T191859Z
SUMMARY:Thanksgiving Break - D97 Schools/Offices Closed
URL;VALUE=URI:https://www.op97.org/longfellow/calendar/6207827/thanksgiving
 -break-d97-schools-offices-closed
DTSTART;VALUE=DATE:20241127
DTEND;VALUE=DATE:20241130
END:VEVENT
END:VCALENDAR
