BEGIN:VCALENDAR
VERSION:2.0
PRODID:SchoolNow
CALSCALE:GREGORIAN
BEGIN:VEVENT
UID:9562260e-3968-11ef-ba68-0efded0f69c3
DTSTAMP:20240703T191914Z
SUMMARY:Winter Break - D97 Schools Closed
URL;VALUE=URI:https://www.op97.org/longfellow/calendar/6207903/winter-break
 -d97-schools-closed
DTSTART;VALUE=DATE:20241223
DTEND;VALUE=DATE:20250104
END:VEVENT
END:VCALENDAR
