BEGIN:VCALENDAR
VERSION:2.0
PRODID:SchoolNow
CALSCALE:GREGORIAN
BEGIN:VEVENT
UID:f71dc67c-3969-11ef-b557-02de16e5324b
DTSTAMP:20240703T191940Z
SUMMARY:Martin Luther King Jr. Day - D97 Schools/Offices Closed
URL;VALUE=URI:https://www.op97.org/longfellow/calendar/6207949/martin-luthe
 r-king-jr-day-d97-schools-offices-closed
DTSTART;VALUE=DATE:20250120
DTEND;VALUE=DATE:20250121
END:VEVENT
END:VCALENDAR
