BEGIN:VCALENDAR
VERSION:2.0
PRODID:SchoolNow
CALSCALE:GREGORIAN
BEGIN:VEVENT
UID:b54dcf1c-396e-11ef-a383-0affe900a1ff
DTSTAMP:20240703T192031Z
SUMMARY:Institute Day - No School for Students
URL;VALUE=URI:https://www.op97.org/longfellow/calendar/6208208/institute-da
 y-no-school-for-students
DTSTART;VALUE=DATE:20250303
DTEND;VALUE=DATE:20250304
END:VEVENT
END:VCALENDAR
