BEGIN:VCALENDAR
VERSION:2.0
PRODID:SchoolNow
CALSCALE:GREGORIAN
BEGIN:VEVENT
UID:80339b1c-396f-11ef-a7ca-0a58a9feac02
DTSTAMP:20240703T192101Z
SUMMARY:Institute Day - No School for Students
URL;VALUE=URI:https://www.op97.org/longfellow/calendar/6208241/institute-da
 y-no-school-for-students
DTSTART;VALUE=DATE:20250401
DTEND;VALUE=DATE:20250402
END:VEVENT
END:VCALENDAR
