BEGIN:VCALENDAR
VERSION:2.0
PRODID:SchoolNow
CALSCALE:GREGORIAN
BEGIN:VEVENT
UID:0932c2ee-3970-11ef-89d0-0affe900a1ff
DTSTAMP:20240703T192114Z
SUMMARY:District 97 Schools/Offices Closed
URL;VALUE=URI:https://www.op97.org/longfellow/calendar/6208257/district-97-
 schools-offices-closed
DTSTART;VALUE=DATE:20250418
DTEND;VALUE=DATE:20250419
END:VEVENT
END:VCALENDAR
