BEGIN:VCALENDAR
VERSION:2.0
PRODID:SchoolNow
CALSCALE:GREGORIAN
BEGIN:VEVENT
UID:6bd9db08-33e8-11f0-91f7-0e060aa23985
DTSTAMP:20250518T130258Z
SUMMARY:Blast Off to Kindergarten
LOCATION:Rehm Park\, 1000 S. Scoville Ave.
URL;VALUE=URI:https://www.op97.org/longfellow/calendar/8157199/blast-off-to
 -kindergarten-2025
DTSTART:20250518T150000Z
DTEND:20250518T170000Z
END:VEVENT
END:VCALENDAR
