BEGIN:VCALENDAR
VERSION:2.0
PRODID:SchoolNow
CALSCALE:GREGORIAN
BEGIN:VEVENT
UID:8e954de4-92b3-11e9-b092-0a5c17f21eca
DTSTAMP:20190619T165910Z
SUMMARY:Institute Day - No School
URL;VALUE=URI:https://www.op97.org/mann/calendar/2008510/teacher-institute-
 dayno-school-110119
DTSTART;VALUE=DATE:20191101
DTEND;VALUE=DATE:20191102
END:VEVENT
END:VCALENDAR
