BEGIN:VCALENDAR
VERSION:2.0
PRODID:SchoolNow
CALSCALE:GREGORIAN
BEGIN:VEVENT
UID:9baa46b0-92b8-11e9-917c-0a5c17f21eca
DTSTAMP:20190619T173519Z
SUMMARY:Parent-Teacher Conferences - Half Day (AM Only)
URL;VALUE=URI:https://www.op97.org/mann/calendar/2008675/parent-teacher-con
 ferences-half-day-am-only-102519
DTSTART;VALUE=DATE:20191025
DTEND;VALUE=DATE:20191026
END:VEVENT
END:VCALENDAR
