BEGIN:VCALENDAR
VERSION:2.0
PRODID:SchoolNow
CALSCALE:GREGORIAN
BEGIN:VEVENT
UID:13648ff6-92c5-11e9-83b8-12378edc2e1e
DTSTAMP:20190619T190434Z
SUMMARY:Third Trimester Report Card Distribution
URL;VALUE=URI:https://www.op97.org/mann/calendar/2008854/third-trimester-re
 port-card-distribution-2020
DTSTART;VALUE=DATE:20200611
DTEND;VALUE=DATE:20200612
END:VEVENT
END:VCALENDAR
