BEGIN:VCALENDAR
VERSION:2.0
PRODID:SchoolNow
CALSCALE:GREGORIAN
BEGIN:VEVENT
UID:24130ca6-92c5-11e9-bfc9-12378edc2e1e
DTSTAMP:20190619T190502Z
SUMMARY:First Trimester Report Card Distribution
URL;VALUE=URI:https://www.op97.org/mann/calendar/2008864/first-trimester-re
 port-card-distribution-2019
DTSTART;VALUE=DATE:20191206
DTEND;VALUE=DATE:20191207
END:VEVENT
END:VCALENDAR
