BEGIN:VCALENDAR
VERSION:2.0
PRODID:SchoolNow
CALSCALE:GREGORIAN
BEGIN:VEVENT
UID:7f79540c-9440-11e9-99bb-0a61f497c0a0
DTSTAMP:20200602T144529Z
SUMMARY:UPDATE: Last Day of School for Students
URL;VALUE=URI:https://www.op97.org/mann/calendar/2011164/last-day-of-school
 -for-students-2020
DTSTART;VALUE=DATE:20200604
DTEND;VALUE=DATE:20200605
END:VEVENT
END:VCALENDAR
