BEGIN:VCALENDAR
VERSION:2.0
PRODID:SchoolNow
CALSCALE:GREGORIAN
BEGIN:VEVENT
UID:f9d927cc-9440-11e9-9992-0a61f497c0a0
DTSTAMP:20200401T160028Z
SUMMARY:No Remote Learning (No School)
URL;VALUE=URI:https://www.op97.org/mann/calendar/2011176/no-school-041020
DTSTART;VALUE=DATE:20200410
DTEND;VALUE=DATE:20200411
END:VEVENT
END:VCALENDAR
