BEGIN:VCALENDAR
VERSION:2.0
PRODID:SchoolNow
CALSCALE:GREGORIAN
BEGIN:VEVENT
UID:21a31410-9442-11e9-9ae3-129cd22f0dca
DTSTAMP:20190621T163216Z
SUMMARY:Thanksgiving Break - No School
URL;VALUE=URI:https://www.op97.org/mann/calendar/2011204/thanksgiving-break
 -no-school-2019
DTSTART;VALUE=DATE:20191127
DTEND;VALUE=DATE:20191130
END:VEVENT
END:VCALENDAR
