BEGIN:VCALENDAR
VERSION:2.0
PRODID:SchoolNow
CALSCALE:GREGORIAN
BEGIN:VEVENT
UID:1b9a51ba-4472-11ea-9a46-0a546944a0c7
DTSTAMP:20200316T142558Z
SUMMARY:POSTPONED: Kindergarten Registration for the 2020-2021 School Year
URL;VALUE=URI:https://www.op97.org/mann/calendar/2193660/kindergarten-regis
 tration-for-the-2020-2021-school-year
DTSTART:20200321T140000Z
DTEND:20200321T190000Z
END:VEVENT
END:VCALENDAR
