BEGIN:VCALENDAR
VERSION:2.0
PRODID:SchoolNow
CALSCALE:GREGORIAN
BEGIN:VEVENT
UID:7f8a21a0-4477-11ea-b64f-0a27d1c61e09
DTSTAMP:20200317T144316Z
SUMMARY:POSTPONED: Kindergarten Registration for the 2020-2021 School Year
URL;VALUE=URI:https://www.op97.org/mann/calendar/2193689/kindergarten-regis
 tration-for-the-2020-2021-school-year
DTSTART:20200406T130000Z
DTEND:20200406T180000Z
END:VEVENT
END:VCALENDAR
