BEGIN:VCALENDAR
VERSION:2.0
PRODID:SchoolNow
CALSCALE:GREGORIAN
BEGIN:VEVENT
UID:2e016ca0-46b9-11ea-801c-0a546944a0c7
DTSTAMP:20200323T182857Z
SUMMARY:Postponed: New Student Registration School Year 2020-2021
URL;VALUE=URI:https://www.op97.org/mann/calendar/2195053/new-student-regist
 ration-school-year-2020-2021
DTSTART:20200516T140000Z
DTEND:20200516T190000Z
END:VEVENT
END:VCALENDAR
