BEGIN:VCALENDAR
VERSION:2.0
PRODID:SchoolNow
CALSCALE:GREGORIAN
BEGIN:VEVENT
UID:d73edf62-7433-11ea-9d77-0a04361d3d7f
DTSTAMP:20200401T161419Z
SUMMARY:Remote Learning
URL;VALUE=URI:https://www.op97.org/mann/calendar/2228186/remote-learning-cl
 one-clone
DTSTART:20200407T130000Z
DTEND:20200407T200000Z
END:VEVENT
END:VCALENDAR
