BEGIN:VCALENDAR
VERSION:2.0
PRODID:SchoolNow
CALSCALE:GREGORIAN
BEGIN:VEVENT
UID:e8352f56-7433-11ea-861b-0a04361d3d7f
DTSTAMP:20200401T161447Z
SUMMARY:Remote Learning
URL;VALUE=URI:https://www.op97.org/mann/calendar/2228196/remote-learning-cl
 one-clone-clone
DTSTART:20200408T130000Z
DTEND:20200408T200000Z
END:VEVENT
END:VCALENDAR
