BEGIN:VCALENDAR
VERSION:2.0
PRODID:SchoolNow
CALSCALE:GREGORIAN
BEGIN:VEVENT
UID:cfa28fd2-7434-11ea-9881-0a443af3b06d
DTSTAMP:20200401T162115Z
SUMMARY:Remote Learning
URL;VALUE=URI:https://www.op97.org/mann/calendar/2228209/remote-learning-cl
 one-clone-clone-clone
DTSTART:20200409T130000Z
DTEND:20200409T200000Z
END:VEVENT
END:VCALENDAR
