BEGIN:VCALENDAR
VERSION:2.0
PRODID:SchoolNow
CALSCALE:GREGORIAN
BEGIN:VEVENT
UID:e618e086-7434-11ea-882c-0a443af3b06d
DTSTAMP:20200407T163032Z
SUMMARY:Remote Learning Planning Day (No Remote Learning for Students)
URL;VALUE=URI:https://www.op97.org/mann/calendar/2228219/remote-learning-cl
 one-clone-clone-clone-clone
DTSTART:20200413T130000Z
DTEND:20200413T200000Z
END:VEVENT
END:VCALENDAR
