BEGIN:VCALENDAR
VERSION:2.0
PRODID:SchoolNow
CALSCALE:GREGORIAN
BEGIN:VEVENT
UID:f63be5da-7434-11ea-b5c9-0a443af3b06d
DTSTAMP:20200401T162220Z
SUMMARY:Remote Learning
URL;VALUE=URI:https://www.op97.org/mann/calendar/2228229/remote-learning-cl
 one-clone-clone-clone-clone-clone
DTSTART:20200414T130000Z
DTEND:20200414T200000Z
END:VEVENT
END:VCALENDAR
