BEGIN:VCALENDAR
VERSION:2.0
PRODID:SchoolNow
CALSCALE:GREGORIAN
BEGIN:VEVENT
UID:128a753a-7435-11ea-b5f1-0a443af3b06d
DTSTAMP:20200401T162308Z
SUMMARY:Remote Learning
URL;VALUE=URI:https://www.op97.org/mann/calendar/2228240/remote-learning-cl
 one-clone-clone-clone-clone-clone-clone
DTSTART:20200415T130000Z
DTEND:20200415T200000Z
END:VEVENT
END:VCALENDAR
