BEGIN:VCALENDAR
VERSION:2.0
PRODID:SchoolNow
CALSCALE:GREGORIAN
BEGIN:VEVENT
UID:5bd244de-7435-11ea-9218-0a443af3b06d
DTSTAMP:20200401T162511Z
SUMMARY:Remote Learning
URL;VALUE=URI:https://www.op97.org/mann/calendar/2228281/remote-learning-cl
 one-clone-clone-clone-clone-clone-clone-clone-clone-clone-clone-clone
DTSTART:20200422T130000Z
DTEND:20200422T200000Z
END:VEVENT
END:VCALENDAR
