BEGIN:VCALENDAR
VERSION:2.0
PRODID:SchoolNow
CALSCALE:GREGORIAN
BEGIN:VEVENT
UID:89fac782-7435-11ea-be5a-0a443af3b06d
DTSTAMP:20200407T163055Z
SUMMARY:Remote Learning Planning Day (No Remote Learning for Students)
URL;VALUE=URI:https://www.op97.org/mann/calendar/2228302/remote-learning-cl
 one-clone-clone-clone-clone-clone-clone-clone-clone-clone-clone-clone-clon
 e-clone
DTSTART:20200424T130000Z
DTEND:20200424T200000Z
END:VEVENT
END:VCALENDAR
