BEGIN:VCALENDAR
VERSION:2.0
PRODID:SchoolNow
CALSCALE:GREGORIAN
BEGIN:VEVENT
UID:98f1024c-7435-11ea-b2b7-0a443af3b06d
DTSTAMP:20200401T162653Z
SUMMARY:Remote Learning
URL;VALUE=URI:https://www.op97.org/mann/calendar/2228312/remote-learning-cl
 one-clone-clone-clone-clone-clone-clone-clone-clone-clone-clone-clone-clon
 e-clone-clone
DTSTART:20200427T130000Z
DTEND:20200427T200000Z
END:VEVENT
END:VCALENDAR
