BEGIN:VCALENDAR
VERSION:2.0
PRODID:SchoolNow
CALSCALE:GREGORIAN
BEGIN:VEVENT
UID:c43c3534-7435-11ea-9eb9-0a443af3b06d
DTSTAMP:20200401T162806Z
SUMMARY:Remote Learning
URL;VALUE=URI:https://www.op97.org/mann/calendar/2228333/remote-learning-cl
 one-clone-clone-clone-clone-clone-clone-clone-clone-clone-clone-clone-clon
 e-clone-clone-clone-clone
DTSTART:20200429T130000Z
DTEND:20200429T200000Z
END:VEVENT
END:VCALENDAR
