BEGIN:VCALENDAR
VERSION:2.0
PRODID:SchoolNow
CALSCALE:GREGORIAN
BEGIN:VEVENT
UID:ddaf4208-8e08-11ea-ba55-1277bb75a945
DTSTAMP:20200504T131211Z
SUMMARY:Remote Learning Planning Day (No Remote Learning for Students)
URL;VALUE=URI:https://www.op97.org/mann/calendar/2244112/remote-learning-pl
 anning-day-no-remote-learning-for-students
DTSTART:20200508T130000Z
DTEND:20200508T200000Z
END:VEVENT
END:VCALENDAR
