BEGIN:VCALENDAR
VERSION:2.0
PRODID:SchoolNow
CALSCALE:GREGORIAN
BEGIN:VEVENT
UID:9402fd6a-9070-11ea-b02d-1223079c1c4b
DTSTAMP:20200507T143938Z
SUMMARY:Remote Learning
URL;VALUE=URI:https://www.op97.org/mann/calendar/2245181/remote-learning-05
 0420
DTSTART;VALUE=DATE:20200504
DTEND;VALUE=DATE:20200505
END:VEVENT
END:VCALENDAR
