BEGIN:VCALENDAR
VERSION:2.0
PRODID:SchoolNow
CALSCALE:GREGORIAN
BEGIN:VEVENT
UID:a881eac6-9070-11ea-a8c6-1223079c1c4b
DTSTAMP:20200507T144012Z
SUMMARY:Remote Learning
URL;VALUE=URI:https://www.op97.org/mann/calendar/2245201/remote-learning-05
 0620
DTSTART;VALUE=DATE:20200506
DTEND;VALUE=DATE:20200507
END:VEVENT
END:VCALENDAR
