BEGIN:VCALENDAR
VERSION:2.0
PRODID:SchoolNow
CALSCALE:GREGORIAN
BEGIN:VEVENT
UID:069616a4-9072-11ea-9768-0a7f3aa383dd
DTSTAMP:20200507T144959Z
SUMMARY:Remote Learning
URL;VALUE=URI:https://www.op97.org/mann/calendar/2245253/remote-learning-05
 1220
DTSTART;VALUE=DATE:20200512
DTEND;VALUE=DATE:20200513
END:VEVENT
END:VCALENDAR
