BEGIN:VCALENDAR
VERSION:2.0
PRODID:SchoolNow
CALSCALE:GREGORIAN
BEGIN:VEVENT
UID:0fcc6d9a-9072-11ea-8c0e-0a7f3aa383dd
DTSTAMP:20200507T145015Z
SUMMARY:Remote Learning
URL;VALUE=URI:https://www.op97.org/mann/calendar/2245263/remote-learning-05
 1320
DTSTART;VALUE=DATE:20200513
DTEND;VALUE=DATE:20200514
END:VEVENT
END:VCALENDAR
