BEGIN:VCALENDAR
VERSION:2.0
PRODID:SchoolNow
CALSCALE:GREGORIAN
BEGIN:VEVENT
UID:2a11b656-9072-11ea-b1e9-0a7f3aa383dd
DTSTAMP:20200507T145059Z
SUMMARY:Remote Learning
URL;VALUE=URI:https://www.op97.org/mann/calendar/2245283/remote-learning-05
 1820
DTSTART;VALUE=DATE:20200518
DTEND;VALUE=DATE:20200519
END:VEVENT
END:VCALENDAR
