BEGIN:VCALENDAR
VERSION:2.0
PRODID:SchoolNow
CALSCALE:GREGORIAN
BEGIN:VEVENT
UID:3c532c78-9072-11ea-8610-0a7f3aa383dd
DTSTAMP:20200507T145130Z
SUMMARY:Remote Learning
URL;VALUE=URI:https://www.op97.org/mann/calendar/2245303/remote-learning-05
 2020
DTSTART;VALUE=DATE:20200520
DTEND;VALUE=DATE:20200521
END:VEVENT
END:VCALENDAR
