BEGIN:VCALENDAR
VERSION:2.0
PRODID:SchoolNow
CALSCALE:GREGORIAN
BEGIN:VEVENT
UID:e210ce20-acc6-11ea-8848-12f0c1e55c17
DTSTAMP:20200612T160758Z
SUMMARY:No School- Labor Day
URL;VALUE=URI:https://www.op97.org/mann/calendar/2260449/no-school-labor-da
 y
DTSTART;VALUE=DATE:20200907
DTEND;VALUE=DATE:20200908
END:VEVENT
END:VCALENDAR
