BEGIN:VCALENDAR
VERSION:2.0
PRODID:SchoolNow
CALSCALE:GREGORIAN
BEGIN:VEVENT
UID:1fac062e-ba27-11ea-a918-1284b9ea766f
DTSTAMP:20200915T155248Z
SUMMARY:Last Day of School for Students
URL;VALUE=URI:https://www.op97.org/mann/calendar/2270672/last-day-of-school
 -2021
DTSTART;VALUE=DATE:20210610
DTEND;VALUE=DATE:20210611
END:VEVENT
END:VCALENDAR
