BEGIN:VCALENDAR
VERSION:2.0
PRODID:SchoolNow
CALSCALE:GREGORIAN
BEGIN:VEVENT
UID:97c9def0-cfae-11ea-b9af-129bc183892f
DTSTAMP:20200727T021216Z
SUMMARY:Virtual Town Hall: Remote Learning 2.0
URL;VALUE=URI:https://www.op97.org/mann/calendar/2292020/virtual-town-hall-
 remote-learning-2-0
DTSTART:20200727T223000Z
DTEND:20200728T000000Z
END:VEVENT
END:VCALENDAR
