BEGIN:VCALENDAR
VERSION:2.0
PRODID:SchoolNow
CALSCALE:GREGORIAN
BEGIN:VEVENT
UID:1890b564-dcc4-11ea-91bc-0aa758d325d7
DTSTAMP:20200812T174917Z
SUMMARY:Mann Device Pickup K-3 students
URL;VALUE=URI:https://www.op97.org/mann/calendar/2305066/mann-device-pickup
 -k-3-students
DTSTART:20200827T151000Z
DTEND:20200827T161000Z
END:VEVENT
END:VCALENDAR
