BEGIN:VCALENDAR
VERSION:2.0
PRODID:SchoolNow
CALSCALE:GREGORIAN
BEGIN:VEVENT
UID:b66f6212-f6a5-11ea-ac43-0a19f4b3c3d9
DTSTAMP:20200914T161657Z
SUMMARY:D97 Meal Distribution
URL;VALUE=URI:https://www.op97.org/mann/calendar/2353779/meal-distribution-
 09292020
DTSTART:20200929T153000Z
DTEND:20200929T180000Z
END:VEVENT
END:VCALENDAR
