BEGIN:VCALENDAR
VERSION:2.0
PRODID:SchoolNow
CALSCALE:GREGORIAN
BEGIN:VEVENT
UID:005610f4-2532-11ec-8a3a-029050341a57
DTSTAMP:20211004T164202Z
SUMMARY:Board Meeting
URL;VALUE=URI:https://www.op97.org/mann/calendar/2790104/board-meeting-1026
 21
DTSTART:20211027T000000Z
DTEND:20211027T045900Z
END:VEVENT
END:VCALENDAR
