BEGIN:VCALENDAR
VERSION:2.0
PRODID:SchoolNow
CALSCALE:GREGORIAN
BEGIN:VEVENT
UID:03502f28-2533-11ec-8bd2-0204d1563635
DTSTAMP:20211004T164917Z
SUMMARY:Board Meeting
URL;VALUE=URI:https://www.op97.org/mann/calendar/2790193/board-meeting-0412
 22
DTSTART:20220413T000000Z
DTEND:20220413T045900Z
END:VEVENT
END:VCALENDAR
