BEGIN:VCALENDAR
VERSION:2.0
PRODID:SchoolNow
CALSCALE:GREGORIAN
BEGIN:VEVENT
UID:3cc97070-2533-11ec-9ec9-0204d1563635
DTSTAMP:20211004T165053Z
SUMMARY:Board Meeting
URL;VALUE=URI:https://www.op97.org/mann/calendar/2790213/board-meeting-0510
 22
DTSTART:20220511T000000Z
DTEND:20220511T045900Z
END:VEVENT
END:VCALENDAR
