BEGIN:VCALENDAR
VERSION:2.0
PRODID:SchoolNow
CALSCALE:GREGORIAN
BEGIN:VEVENT
UID:95ca7480-2533-11ec-981d-0204d1563635
DTSTAMP:20220712T211158Z
SUMMARY:Board Meeting (Canceled)
URL;VALUE=URI:https://www.op97.org/mann/calendar/2790243/board-meeting-0712
 22
DTSTART:20220713T000000Z
DTEND:20220713T045900Z
END:VEVENT
END:VCALENDAR
