BEGIN:VCALENDAR
VERSION:2.0
PRODID:SchoolNow
CALSCALE:GREGORIAN
BEGIN:VEVENT
UID:a1262342-ec20-11ec-b03c-02f7a0dded9d
DTSTAMP:20220624T155255Z
SUMMARY:Institute Day - No School
URL;VALUE=URI:https://www.op97.org/mann/calendar/3219530/institute-day-no-s
 chool-clone
DTSTART;VALUE=DATE:20220823
DTEND;VALUE=DATE:20220824
END:VEVENT
END:VCALENDAR
