BEGIN:VCALENDAR
VERSION:2.0
PRODID:SchoolNow
CALSCALE:GREGORIAN
BEGIN:VEVENT
UID:6de44474-f309-11ec-80e3-0a30c8de4f4d
DTSTAMP:20220624T155315Z
SUMMARY:D97 Schools/Offices Closed
URL;VALUE=URI:https://www.op97.org/mann/calendar/3229537/district-closed-cl
 one
DTSTART;VALUE=DATE:20221005
DTEND;VALUE=DATE:20221006
END:VEVENT
END:VCALENDAR
