BEGIN:VCALENDAR
VERSION:2.0
PRODID:SchoolNow
CALSCALE:GREGORIAN
BEGIN:VEVENT
UID:bcdd4ef4-f309-11ec-9ee5-0a30c8de4f4d
DTSTAMP:20221026T143446Z
SUMMARY:Family/Teacher Conferences - Half Day (AM Only)
URL;VALUE=URI:https://www.op97.org/mann/calendar/3229557/parent-teacher-con
 ferences-half-day-am-only-102121-clone
DTSTART;VALUE=DATE:20221027
DTEND;VALUE=DATE:20221028
END:VEVENT
END:VCALENDAR
