BEGIN:VCALENDAR
VERSION:2.0
PRODID:SchoolNow
CALSCALE:GREGORIAN
BEGIN:VEVENT
UID:406bb1c4-f30b-11ec-93e8-0a30c8de4f4d
DTSTAMP:20220623T154339Z
SUMMARY:2nd Trimester Ends
URL;VALUE=URI:https://www.op97.org/mann/calendar/3229671/2nd-trimester-ends
 -030322-clone
DTSTART;VALUE=DATE:20230308
DTEND;VALUE=DATE:20230309
END:VEVENT
END:VCALENDAR
