BEGIN:VCALENDAR
VERSION:2.0
PRODID:SchoolNow
CALSCALE:GREGORIAN
BEGIN:VEVENT
UID:9156572e-f30b-11ec-926c-0a30c8de4f4d
DTSTAMP:20220623T154555Z
SUMMARY:D97 Schools/Offices Closed
URL;VALUE=URI:https://www.op97.org/mann/calendar/3229701/district-closed-cl
 one-clone
DTSTART:20230407T050000Z
DTEND:20230408T045900Z
END:VEVENT
END:VCALENDAR
