BEGIN:VCALENDAR
VERSION:2.0
PRODID:SchoolNow
CALSCALE:GREGORIAN
BEGIN:VEVENT
UID:185687e6-1447-11ee-89ae-0e7482235fa7
DTSTAMP:20230626T173007Z
SUMMARY:Institute Day - No School for Students
URL;VALUE=URI:https://www.op97.org/mann/calendar/4437703/institute-day-no-s
 chool-for-students
DTSTART;VALUE=DATE:20230822
DTEND;VALUE=DATE:20230823
END:VEVENT
END:VCALENDAR
